BEGIN:VCALENDAR
VERSION:2.0
PRODID:spatie/icalendar-generator
NAME:Surgent's Excel Lookups: Moving Beyond VLOOKUP Limitations
X-WR-CALNAME:Surgent's Excel Lookups: Moving Beyond VLOOKUP Limitations
BEGIN:VTIMEZONE
TZID:America/Chicago
BEGIN:DAYLIGHT
DTSTART:20260308T010000
TZOFFSETFROM:-0600
TZOFFSETTO:-0500
END:DAYLIGHT
BEGIN:STANDARD
DTSTART:20261101T010000
TZOFFSETFROM:-0500
TZOFFSETTO:-0600
END:STANDARD
BEGIN:DAYLIGHT
DTSTART:20270314T010000
TZOFFSETFROM:-0600
TZOFFSETTO:-0500
END:DAYLIGHT
END:VTIMEZONE
BEGIN:VTIMEZONE
TZID:UTC
BEGIN:STANDARD
DTSTART:20250726T185428
TZOFFSETFROM:+0000
TZOFFSETTO:+0000
END:STANDARD
END:VTIMEZONE
BEGIN:VEVENT
UID:69e91964ae939
DTSTAMP:20260422T185428Z
SUMMARY:Surgent's Excel Lookups: Moving Beyond VLOOKUP Limitations
URL:https://alabama.cpa/catalog/events/7720368-surgents-excel-lookups-movin
 g-beyond-vlookup-limitations-2026-09-11
DTSTART;TZID=America/Chicago:20261109T090000
DTEND;TZID=America/Chicago:20261109T110000
END:VEVENT
END:VCALENDAR