BEGIN:VCALENDAR
VERSION:2.0
PRODID:spatie/icalendar-generator
NAME:Surgent's Essential Depreciation and Expensing Update
X-WR-CALNAME:Surgent's Essential Depreciation and Expensing Update
BEGIN:VTIMEZONE
TZID:America/Chicago
BEGIN:DAYLIGHT
DTSTART:20260308T010000
TZOFFSETFROM:-0600
TZOFFSETTO:-0500
END:DAYLIGHT
BEGIN:STANDARD
DTSTART:20261101T010000
TZOFFSETFROM:-0500
TZOFFSETTO:-0600
END:STANDARD
BEGIN:DAYLIGHT
DTSTART:20270314T010000
TZOFFSETFROM:-0600
TZOFFSETTO:-0500
END:DAYLIGHT
END:VTIMEZONE
BEGIN:VTIMEZONE
TZID:UTC
BEGIN:STANDARD
DTSTART:20250726T185229
TZOFFSETFROM:+0000
TZOFFSETTO:+0000
END:STANDARD
END:VTIMEZONE
BEGIN:VEVENT
UID:69e918ed49be5
DTSTAMP:20260422T185229Z
SUMMARY:Surgent's Essential Depreciation and Expensing Update
URL:https://alabama.cpa/catalog/events/7720391-surgents-essential-depreciat
 ion-and-expensing-update-2026-09-11
DTSTART;TZID=America/Chicago:20261109T090000
DTEND;TZID=America/Chicago:20261109T130000
END:VEVENT
END:VCALENDAR