BEGIN:VCALENDAR
VERSION:2.0
PRODID:spatie/icalendar-generator
NAME:Surgent's Incident Response and Case Studies in AI-powered Cybersecuri
 ty
X-WR-CALNAME:Surgent's Incident Response and Case Studies in AI-powered Cyb
 ersecurity
BEGIN:VTIMEZONE
TZID:America/Chicago
BEGIN:DAYLIGHT
DTSTART:20260308T010000
TZOFFSETFROM:-0600
TZOFFSETTO:-0500
END:DAYLIGHT
BEGIN:STANDARD
DTSTART:20261101T010000
TZOFFSETFROM:-0500
TZOFFSETTO:-0600
END:STANDARD
BEGIN:DAYLIGHT
DTSTART:20270314T010000
TZOFFSETFROM:-0600
TZOFFSETTO:-0500
END:DAYLIGHT
END:VTIMEZONE
BEGIN:VTIMEZONE
TZID:UTC
BEGIN:STANDARD
DTSTART:20250726T185305
TZOFFSETFROM:+0000
TZOFFSETTO:+0000
END:STANDARD
END:VTIMEZONE
BEGIN:VEVENT
UID:69e91911e08b5
DTSTAMP:20260422T185305Z
SUMMARY:Surgent's Incident Response and Case Studies in AI-powered Cybersec
 urity
URL:https://alabama.cpa/catalog/events/7720424-surgents-incident-response-a
 nd-case-studies-in-ai-powered-cybersecurity-2026-10-11
DTSTART;TZID=America/Chicago:20261110T090000
DTEND;TZID=America/Chicago:20261110T110000
END:VEVENT
END:VCALENDAR