BEGIN:VCALENDAR
VERSION:2.0
PRODID:spatie/icalendar-generator
NAME:Surgent's Controllership Skills Update: Risk Management
X-WR-CALNAME:Surgent's Controllership Skills Update: Risk Management
BEGIN:VTIMEZONE
TZID:America/Chicago
BEGIN:DAYLIGHT
DTSTART:20260308T010000
TZOFFSETFROM:-0600
TZOFFSETTO:-0500
END:DAYLIGHT
BEGIN:STANDARD
DTSTART:20261101T010000
TZOFFSETFROM:-0500
TZOFFSETTO:-0600
END:STANDARD
BEGIN:DAYLIGHT
DTSTART:20270314T010000
TZOFFSETFROM:-0600
TZOFFSETTO:-0500
END:DAYLIGHT
END:VTIMEZONE
BEGIN:VTIMEZONE
TZID:UTC
BEGIN:STANDARD
DTSTART:20250726T185228
TZOFFSETFROM:+0000
TZOFFSETTO:+0000
END:STANDARD
END:VTIMEZONE
BEGIN:VEVENT
UID:69e918ecce980
DTSTAMP:20260422T185228Z
SUMMARY:Surgent's Controllership Skills Update: Risk Management
URL:https://alabama.cpa/catalog/events/7720425-surgents-controllership-skil
 ls-update-risk-management-2026-10-11
DTSTART;TZID=America/Chicago:20261110T090000
DTEND;TZID=America/Chicago:20261110T110000
END:VEVENT
END:VCALENDAR