BEGIN:VCALENDAR
VERSION:2.0
PRODID:spatie/icalendar-generator
NAME:Surgent's Predicting Future Financial Issues Facing the Financial Exec
 utive
X-WR-CALNAME:Surgent's Predicting Future Financial Issues Facing the Financ
 ial Executive
BEGIN:VTIMEZONE
TZID:America/Chicago
BEGIN:DAYLIGHT
DTSTART:20260308T010000
TZOFFSETFROM:-0600
TZOFFSETTO:-0500
END:DAYLIGHT
BEGIN:STANDARD
DTSTART:20261101T010000
TZOFFSETFROM:-0500
TZOFFSETTO:-0600
END:STANDARD
BEGIN:DAYLIGHT
DTSTART:20270314T010000
TZOFFSETFROM:-0600
TZOFFSETTO:-0500
END:DAYLIGHT
END:VTIMEZONE
BEGIN:VTIMEZONE
TZID:UTC
BEGIN:STANDARD
DTSTART:20250726T185245
TZOFFSETFROM:+0000
TZOFFSETTO:+0000
END:STANDARD
END:VTIMEZONE
BEGIN:VEVENT
UID:69e918fd566fb
DTSTAMP:20260422T185245Z
SUMMARY:Surgent's Predicting Future Financial Issues Facing the Financial E
 xecutive
URL:https://alabama.cpa/catalog/events/7720430-surgents-predicting-future-f
 inancial-issues-facing-the-financial-executive-2026-10-11
DTSTART;TZID=America/Chicago:20261110T080000
DTEND;TZID=America/Chicago:20261110T160000
END:VEVENT
END:VCALENDAR