BEGIN:VCALENDAR
VERSION:2.0
PRODID:spatie/icalendar-generator
NAME:Surgent's Guide to Partner Capital Account Reporting
X-WR-CALNAME:Surgent's Guide to Partner Capital Account Reporting
BEGIN:VTIMEZONE
TZID:America/Chicago
BEGIN:STANDARD
DTSTART:20261101T010000
TZOFFSETFROM:-0500
TZOFFSETTO:-0600
END:STANDARD
BEGIN:DAYLIGHT
DTSTART:20270314T010000
TZOFFSETFROM:-0600
TZOFFSETTO:-0500
END:DAYLIGHT
END:VTIMEZONE
BEGIN:VTIMEZONE
TZID:UTC
BEGIN:STANDARD
DTSTART:20250726T185602
TZOFFSETFROM:+0000
TZOFFSETTO:+0000
END:STANDARD
END:VTIMEZONE
BEGIN:VEVENT
UID:69e919c24b895
DTSTAMP:20260422T185602Z
SUMMARY:Surgent's Guide to Partner Capital Account Reporting
URL:https://alabama.cpa/catalog/events/7720438-surgents-guide-to-partner-ca
 pital-account-reporting-2027-21-01
DTSTART;TZID=America/Chicago:20270121T080000
DTEND;TZID=America/Chicago:20270121T100000
END:VEVENT
END:VCALENDAR