BEGIN:VCALENDAR
VERSION:2.0
PRODID:spatie/icalendar-generator
NAME:Surgent's S Corporation Core Tax Issues From Formation Through Liquida
 tion
X-WR-CALNAME:Surgent's S Corporation Core Tax Issues From Formation Through
  Liquidation
BEGIN:VTIMEZONE
TZID:America/Chicago
BEGIN:DAYLIGHT
DTSTART:20260308T010000
TZOFFSETFROM:-0600
TZOFFSETTO:-0500
END:DAYLIGHT
BEGIN:STANDARD
DTSTART:20261101T010000
TZOFFSETFROM:-0500
TZOFFSETTO:-0600
END:STANDARD
BEGIN:DAYLIGHT
DTSTART:20270314T010000
TZOFFSETFROM:-0600
TZOFFSETTO:-0500
END:DAYLIGHT
END:VTIMEZONE
BEGIN:VTIMEZONE
TZID:UTC
BEGIN:STANDARD
DTSTART:20250726T185233
TZOFFSETFROM:+0000
TZOFFSETTO:+0000
END:STANDARD
END:VTIMEZONE
BEGIN:VEVENT
UID:69e918f166fa1
DTSTAMP:20260422T185233Z
SUMMARY:Surgent's S Corporation Core Tax Issues From Formation Through Liqu
 idation
URL:https://alabama.cpa/catalog/events/7720472-surgents-s-corporation-core-
 tax-issues-from-formation-through-liquidation-2026-10-11
DTSTART;TZID=America/Chicago:20261110T090000
DTEND;TZID=America/Chicago:20261110T170000
END:VEVENT
END:VCALENDAR