BEGIN:VCALENDAR
VERSION:2.0
PRODID:spatie/icalendar-generator
NAME:Surgent's Handbook for Mastering Basis\, Distributions\, and Loss Limi
 tation Issues for S Corporations\, LLCs\, and Partnerships
X-WR-CALNAME:Surgent's Handbook for Mastering Basis\, Distributions\, and L
 oss Limitation Issues for S Corporations\, LLCs\, and Partnerships
BEGIN:VTIMEZONE
TZID:America/Chicago
BEGIN:STANDARD
DTSTART:20261101T010000
TZOFFSETFROM:-0500
TZOFFSETTO:-0600
END:STANDARD
BEGIN:DAYLIGHT
DTSTART:20270314T010000
TZOFFSETFROM:-0600
TZOFFSETTO:-0500
END:DAYLIGHT
END:VTIMEZONE
BEGIN:VTIMEZONE
TZID:UTC
BEGIN:STANDARD
DTSTART:20250726T185305
TZOFFSETFROM:+0000
TZOFFSETTO:+0000
END:STANDARD
END:VTIMEZONE
BEGIN:VEVENT
UID:69e919112eda0
DTSTAMP:20260422T185305Z
SUMMARY:Surgent's Handbook for Mastering Basis\, Distributions\, and Loss L
 imitation Issues for S Corporations\, LLCs\, and Partnerships
URL:https://alabama.cpa/catalog/events/7720476-surgents-handbook-for-master
 ing-basis-distributions-and-loss-limitation-issues-for-s-corporations-llcs
 -and-partnerships-2027-21-01
DTSTART;TZID=America/Chicago:20270121T090000
DTEND;TZID=America/Chicago:20270121T170000
END:VEVENT
END:VCALENDAR