BEGIN:VCALENDAR
VERSION:2.0
PRODID:spatie/icalendar-generator
NAME:Surgent's Review and Analysis of Crucial OBBBA Changes
X-WR-CALNAME:Surgent's Review and Analysis of Crucial OBBBA Changes
BEGIN:VTIMEZONE
TZID:America/Chicago
BEGIN:STANDARD
DTSTART:20261101T010000
TZOFFSETFROM:-0500
TZOFFSETTO:-0600
END:STANDARD
BEGIN:DAYLIGHT
DTSTART:20270314T010000
TZOFFSETFROM:-0600
TZOFFSETTO:-0500
END:DAYLIGHT
END:VTIMEZONE
BEGIN:VTIMEZONE
TZID:UTC
BEGIN:STANDARD
DTSTART:20250726T185812
TZOFFSETFROM:+0000
TZOFFSETTO:+0000
END:STANDARD
END:VTIMEZONE
BEGIN:VEVENT
UID:69e91a4477004
DTSTAMP:20260422T185812Z
SUMMARY:Surgent's Review and Analysis of Crucial OBBBA Changes
URL:https://alabama.cpa/catalog/events/7720510-surgents-review-and-analysis
 -of-crucial-obbba-changes-2027-22-01
DTSTART;TZID=America/Chicago:20270122T130000
DTEND;TZID=America/Chicago:20270122T150000
END:VEVENT
END:VCALENDAR