BEGIN:VCALENDAR
VERSION:2.0
PRODID:spatie/icalendar-generator
NAME:Surgent's Employee Stock Options: What Financial Professionals Should 
 Know When Advising Their Clients
X-WR-CALNAME:Surgent's Employee Stock Options: What Financial Professionals
  Should Know When Advising Their Clients
BEGIN:VTIMEZONE
TZID:America/Chicago
BEGIN:STANDARD
DTSTART:20261101T010000
TZOFFSETFROM:-0500
TZOFFSETTO:-0600
END:STANDARD
BEGIN:DAYLIGHT
DTSTART:20270314T010000
TZOFFSETFROM:-0600
TZOFFSETTO:-0500
END:DAYLIGHT
END:VTIMEZONE
BEGIN:VTIMEZONE
TZID:UTC
BEGIN:STANDARD
DTSTART:20250726T185449
TZOFFSETFROM:+0000
TZOFFSETTO:+0000
END:STANDARD
END:VTIMEZONE
BEGIN:VEVENT
UID:69e919799114d
DTSTAMP:20260422T185449Z
SUMMARY:Surgent's Employee Stock Options: What Financial Professionals Shou
 ld Know When Advising Their Clients
URL:https://alabama.cpa/catalog/events/7720538-surgents-employee-stock-opti
 ons-what-financial-professionals-should-know-when-advising-their-clients-2
 027-22-01
DTSTART;TZID=America/Chicago:20270122T090000
DTEND;TZID=America/Chicago:20270122T110000
END:VEVENT
END:VCALENDAR