BEGIN:VCALENDAR
VERSION:2.0
PRODID:spatie/icalendar-generator
NAME:Surgent's What Tax Practitioners Need to Know About Medicare
X-WR-CALNAME:Surgent's What Tax Practitioners Need to Know About Medicare
BEGIN:VTIMEZONE
TZID:America/Chicago
BEGIN:STANDARD
DTSTART:20261101T010000
TZOFFSETFROM:-0500
TZOFFSETTO:-0600
END:STANDARD
BEGIN:DAYLIGHT
DTSTART:20270314T010000
TZOFFSETFROM:-0600
TZOFFSETTO:-0500
END:DAYLIGHT
END:VTIMEZONE
BEGIN:VTIMEZONE
TZID:UTC
BEGIN:STANDARD
DTSTART:20250726T185755
TZOFFSETFROM:+0000
TZOFFSETTO:+0000
END:STANDARD
END:VTIMEZONE
BEGIN:VEVENT
UID:69e91a33a8788
DTSTAMP:20260422T185755Z
SUMMARY:Surgent's What Tax Practitioners Need to Know About Medicare
URL:https://alabama.cpa/catalog/events/7720566-surgents-what-tax-practition
 ers-need-to-know-about-medicare-2027-25-01
DTSTART;TZID=America/Chicago:20270125T090000
DTEND;TZID=America/Chicago:20270125T110000
END:VEVENT
END:VCALENDAR