BEGIN:VCALENDAR
VERSION:2.0
PRODID:spatie/icalendar-generator
NAME:Surgent's Understanding Partnership Taxation: PTE Elections\, 754 Elec
 tions\, and Selling a Partnership Interest
X-WR-CALNAME:Surgent's Understanding Partnership Taxation: PTE Elections\, 
 754 Elections\, and Selling a Partnership Interest
BEGIN:VTIMEZONE
TZID:America/Chicago
BEGIN:STANDARD
DTSTART:20261101T010000
TZOFFSETFROM:-0500
TZOFFSETTO:-0600
END:STANDARD
BEGIN:DAYLIGHT
DTSTART:20270314T010000
TZOFFSETFROM:-0600
TZOFFSETTO:-0500
END:DAYLIGHT
END:VTIMEZONE
BEGIN:VTIMEZONE
TZID:UTC
BEGIN:STANDARD
DTSTART:20250726T185428
TZOFFSETFROM:+0000
TZOFFSETTO:+0000
END:STANDARD
END:VTIMEZONE
BEGIN:VEVENT
UID:69e91964b07a3
DTSTAMP:20260422T185428Z
SUMMARY:Surgent's Understanding Partnership Taxation: PTE Elections\, 754 E
 lections\, and Selling a Partnership Interest
URL:https://alabama.cpa/catalog/events/7720570-surgents-understanding-partn
 ership-taxation-pte-elections-754-elections-and-selling-a-partnership-inte
 rest-2027-25-01
DTSTART;TZID=America/Chicago:20270125T120000
DTEND;TZID=America/Chicago:20270125T140000
END:VEVENT
END:VCALENDAR