BEGIN:VCALENDAR
VERSION:2.0
PRODID:spatie/icalendar-generator
NAME:Surgent's Individual and Financial-Planning Tax Camp
X-WR-CALNAME:Surgent's Individual and Financial-Planning Tax Camp
BEGIN:VTIMEZONE
TZID:America/Chicago
BEGIN:STANDARD
DTSTART:20261101T010000
TZOFFSETFROM:-0500
TZOFFSETTO:-0600
END:STANDARD
BEGIN:DAYLIGHT
DTSTART:20270314T010000
TZOFFSETFROM:-0600
TZOFFSETTO:-0500
END:DAYLIGHT
END:VTIMEZONE
BEGIN:VTIMEZONE
TZID:UTC
BEGIN:STANDARD
DTSTART:20250726T185644
TZOFFSETFROM:+0000
TZOFFSETTO:+0000
END:STANDARD
END:VTIMEZONE
BEGIN:VEVENT
UID:69e919ec79f3f
DTSTAMP:20260422T185644Z
SUMMARY:Surgent's Individual and Financial-Planning Tax Camp
URL:https://alabama.cpa/catalog/events/7720596-surgents-individual-and-fina
 ncial-planning-tax-camp-2027-26-01
DTSTART;TZID=America/Chicago:20270126T080000
DTEND;TZID=America/Chicago:20270126T160000
END:VEVENT
END:VCALENDAR