BEGIN:VCALENDAR
VERSION:2.0
PRODID:spatie/icalendar-generator
NAME:Surgent's Recent Changes in Workplace Regulations: Overtime\, Non-comp
 ete Agreements\, and Employee/Independent Contractor
X-WR-CALNAME:Surgent's Recent Changes in Workplace Regulations: Overtime\, 
 Non-compete Agreements\, and Employee/Independent Contractor
BEGIN:VTIMEZONE
TZID:America/Chicago
BEGIN:STANDARD
DTSTART:20261101T010000
TZOFFSETFROM:-0500
TZOFFSETTO:-0600
END:STANDARD
BEGIN:DAYLIGHT
DTSTART:20270314T010000
TZOFFSETFROM:-0600
TZOFFSETTO:-0500
END:DAYLIGHT
END:VTIMEZONE
BEGIN:VTIMEZONE
TZID:UTC
BEGIN:STANDARD
DTSTART:20250726T185103
TZOFFSETFROM:+0000
TZOFFSETTO:+0000
END:STANDARD
END:VTIMEZONE
BEGIN:VEVENT
UID:69e918970c196
DTSTAMP:20260422T185103Z
SUMMARY:Surgent's Recent Changes in Workplace Regulations: Overtime\, Non-c
 ompete Agreements\, and Employee/Independent Contractor
URL:https://alabama.cpa/catalog/events/7720609-surgents-recent-changes-in-w
 orkplace-regulations-overtime-non-compete-agreements-and-employeeindepende
 nt-contractor-2027-26-01
DTSTART;TZID=America/Chicago:20270126T120000
DTEND;TZID=America/Chicago:20270126T140000
END:VEVENT
END:VCALENDAR