BEGIN:VCALENDAR
VERSION:2.0
PRODID:spatie/icalendar-generator
NAME:Surgent's Exploring Business Valuation Fundamentals
X-WR-CALNAME:Surgent's Exploring Business Valuation Fundamentals
BEGIN:VTIMEZONE
TZID:America/Chicago
BEGIN:STANDARD
DTSTART:20261101T010000
TZOFFSETFROM:-0500
TZOFFSETTO:-0600
END:STANDARD
BEGIN:DAYLIGHT
DTSTART:20270314T010000
TZOFFSETFROM:-0600
TZOFFSETTO:-0500
END:DAYLIGHT
END:VTIMEZONE
BEGIN:VTIMEZONE
TZID:UTC
BEGIN:STANDARD
DTSTART:20250726T185841
TZOFFSETFROM:+0000
TZOFFSETTO:+0000
END:STANDARD
END:VTIMEZONE
BEGIN:VEVENT
UID:69e91a61dd067
DTSTAMP:20260422T185841Z
SUMMARY:Surgent's Exploring Business Valuation Fundamentals
URL:https://alabama.cpa/catalog/events/7720676-surgents-exploring-business-
 valuation-fundamentals-2027-28-01
DTSTART;TZID=America/Chicago:20270128T120000
DTEND;TZID=America/Chicago:20270128T140000
END:VEVENT
END:VCALENDAR