BEGIN:VCALENDAR
VERSION:2.0
PRODID:spatie/icalendar-generator
NAME:Surgent's Lessons Learned from Successful Companies
X-WR-CALNAME:Surgent's Lessons Learned from Successful Companies
BEGIN:VTIMEZONE
TZID:America/Chicago
BEGIN:STANDARD
DTSTART:20261101T010000
TZOFFSETFROM:-0500
TZOFFSETTO:-0600
END:STANDARD
BEGIN:DAYLIGHT
DTSTART:20270314T010000
TZOFFSETFROM:-0600
TZOFFSETTO:-0500
END:DAYLIGHT
END:VTIMEZONE
BEGIN:VTIMEZONE
TZID:UTC
BEGIN:STANDARD
DTSTART:20250726T185120
TZOFFSETFROM:+0000
TZOFFSETTO:+0000
END:STANDARD
END:VTIMEZONE
BEGIN:VEVENT
UID:69e918a82e5cb
DTSTAMP:20260422T185120Z
SUMMARY:Surgent's Lessons Learned from Successful Companies
URL:https://alabama.cpa/catalog/events/7720703-surgents-lessons-learned-fro
 m-successful-companies-2027-28-01
DTSTART;TZID=America/Chicago:20270128T090000
DTEND;TZID=America/Chicago:20270128T110000
END:VEVENT
END:VCALENDAR