BEGIN:VCALENDAR
VERSION:2.0
PRODID:spatie/icalendar-generator
NAME:Surgent's Reducing a Business Owner Client’s Exposure to Social Secu
 rity and Self-Employment Taxes
X-WR-CALNAME:Surgent's Reducing a Business Owner Client’s Exposure to Soc
 ial Security and Self-Employment Taxes
BEGIN:VTIMEZONE
TZID:America/Chicago
BEGIN:STANDARD
DTSTART:20261101T010000
TZOFFSETFROM:-0500
TZOFFSETTO:-0600
END:STANDARD
BEGIN:DAYLIGHT
DTSTART:20270314T010000
TZOFFSETFROM:-0600
TZOFFSETTO:-0500
END:DAYLIGHT
END:VTIMEZONE
BEGIN:VTIMEZONE
TZID:UTC
BEGIN:STANDARD
DTSTART:20250726T185448
TZOFFSETFROM:+0000
TZOFFSETTO:+0000
END:STANDARD
END:VTIMEZONE
BEGIN:VEVENT
UID:69e919786e78c
DTSTAMP:20260422T185448Z
SUMMARY:Surgent's Reducing a Business Owner Client’s Exposure to Social S
 ecurity and Self-Employment Taxes
URL:https://alabama.cpa/catalog/events/7720704-surgents-reducing-a-business
 -owner-clients-exposure-to-social-security-and-self-employment-taxes-2027-
 28-01
DTSTART;TZID=America/Chicago:20270128T090000
DTEND;TZID=America/Chicago:20270128T110000
END:VEVENT
END:VCALENDAR