BEGIN:VCALENDAR
VERSION:2.0
PRODID:spatie/icalendar-generator
NAME:Surgent's Annual FASB Update and Review
X-WR-CALNAME:Surgent's Annual FASB Update and Review
BEGIN:VTIMEZONE
TZID:America/Chicago
BEGIN:STANDARD
DTSTART:20261101T010000
TZOFFSETFROM:-0500
TZOFFSETTO:-0600
END:STANDARD
BEGIN:DAYLIGHT
DTSTART:20270314T010000
TZOFFSETFROM:-0600
TZOFFSETTO:-0500
END:DAYLIGHT
END:VTIMEZONE
BEGIN:VTIMEZONE
TZID:UTC
BEGIN:STANDARD
DTSTART:20250726T185244
TZOFFSETFROM:+0000
TZOFFSETTO:+0000
END:STANDARD
END:VTIMEZONE
BEGIN:VEVENT
UID:69e918fc28764
DTSTAMP:20260422T185244Z
SUMMARY:Surgent's Annual FASB Update and Review
URL:https://alabama.cpa/catalog/events/7720726-surgents-annual-fasb-update-
 and-review-2027-29-01
DTSTART;TZID=America/Chicago:20270129T080000
DTEND;TZID=America/Chicago:20270129T120000
END:VEVENT
END:VCALENDAR